{"text_format":"1","workbook":"xlsx","n_sheets":4,"sheets":["Order form","Repeated sample_Free","OD_unpurified samp.","Sheet3"],"not_rendered":{"charts":0,"images":4,"macros":1,"external_links":0,"defined_names":3,"comments":0,"pivot_tables":0},"unopened":[],"bounds":{"document_bytes":16777216,"sheet_cells":100000,"rows_first":2000,"rows_last":500,"rows_between":2000,"halvings":0,"cell_chars":16384,"cell_head_chars":4096},"cells_cut":0,"cells_raw":0,"read":"whole","date_system":"1900"}

{"sheet":"Order form","index":0,"n_rows":527,"n_cols":20,"rows_kept":527,"cut":false,"hidden":false,"merged":[[13,14,13,16],[14,14,14,16],[4,14,4,19],[5,14,5,16],[12,14,12,16],[11,14,11,16],[14,17,14,19],[13,17,13,19],[8,0,8,4],[6,0,6,4],[11,5,11,12],[6,5,6,12],[7,0,7,4],[9,0,9,4],[10,0,10,4],[11,0,11,4],[8,5,8,12],[9,5,9,12],[10,5,10,12],[0,14,0,19],[1,14,1,19],[2,14,2,19],[3,14,3,19],[6,17,6,19],[7,17,7,19],[8,17,8,19],[9,17,9,19],[10,17,10,19],[11,17,11,19],[12,17,12,19],[6,14,6,16],[7,14,7,16],[8,14,8,16],[9,14,9,16],[10,14,10,16],[7,5,7,12],[4,0,5,10],[5,17,5,19],[454,12,454,13],[455,12,455,13],[456,12,456,13],[457,12,457,13],[458,12,458,13],[447,12,447,13],[448,12,448,13],[449,12,449,13],[442,12,442,13],[443,12,443,13],[444,12,444,13],[445,12,445,13],[446,12,446,13],[467,12,467,13],[468,12,468,13],[469,12,469,13],[470,12,470,13],[450,12,450,13],[451,12,451,13],[452,12,452,13],[490,12,490,13],[491,12,491,13],[492,12,492,13],[16,18,16,19],[483,12,483,13],[484,12,484,13],[485,12,485,13],[486,12,486,13],[487,12,487,13],[488,12,488,13],[477,12,477,13],[478,12,478,13],[479,12,479,13],[480,12,480,13],[481,12,481,13],[482,12,482,13],[471,12,471,13],[472,12,472,13],[473,12,473,13],[474,12,474,13],[475,12,475,13],[476,12,476,13],[465,12,465,13],[466,12,466,13],[489,12,489,13],[459,12,459,13],[460,12,460,13],[461,12,461,13],[462,12,462,13],[463,12,463,13],[464,12,464,13],[453,12,453,13],[441,12,441,13],[431,12,431,13],[432,12,432,13],[433,12,433,13],[434,12,434,13],[423,12,423,13],[424,12,424,13],[425,12,425,13],[426,12,426,13],[427,12,427,13],[428,12,428,13],[417,12,417,13],[418,12,418,13],[419,12,419,13],[420,12,420,13],[421,12,421,13],[422,12,422,13],[435,12,435,13],[436,12,436,13],[437,12,437,13],[438,12,438,13],[439,12,439,13],[440,12,440,13],[429,12,429,13],[430,12,430,13],[411,12,411,13],[412,12,412,13],[413,12,413,13],[414,12,414,13],[415,12,415,13],[416,12,416,13],[405,12,405,13],[406,12,406,13],[407,12,407,13],[408,12,408,13],[409,12,409,13],[410,12,410,13],[399,12,399,13],[400,12,400,13],[401,12,401,13],[402,12,402,13],[403,12,403,13],[404,12,404,13],[393,12,393,13],[394,12,394,13],[395,12,395,13],[396,12,396,13],[397,12,397,13],[398,12,398,13],[387,12,387,13],[388,12,388,13],[389,12,389,13],[390,12,390,13],[391,12,391,13],[392,12,392,13],[381,12,381,13],[382,12,382,13],[383,12,383,13],[384,12,384,13],[385,12,385,13],[386,12,386,13],[375,12,375,13],[376,12,376,13],[377,12,377,13],[378,12,378,13],[379,12,379,13],[380,12,380,13],[369,12,369,13],[370,12,370,13],[371,12,371,13],[372,12,372,13],[373,12,373,13],[374,12,374,13],[363,12,363,13],[364,12,364,13],[365,12,365,13],[366,12,366,13],[367,12,367,13],[368,12,368,13],[357,12,357,13],[358,12,358,13],[359,12,359,13],[360,12,360,13],[361,12,361,13],[362,12,362,13],[351,12,351,13],[352,12,352,13],[353,12,353,13],[354,12,354,13],[355,12,355,13],[356,12,356,13],[345,12,345,13],[346,12,346,13],[347,12,347,13],[348,12,348,13],[349,12,349,13],[350,12,350,13],[339,12,339,13],[340,12,340,13],[341,12,341,13],[342,12,342,13],[343,12,343,13],[344,12,344,13],[333,12,333,13],[334,12,334,13],[335,12,335,13],[336,12,336,13],[337,12,337,13],[338,12,338,13],[327,12,327,13],[328,12,328,13],[329,12,329,13],[330,12,330,13],[331,12,331,13],[332,12,332,13],[321,12,321,13],[322,12,322,13],[323,12,323,13],[324,12,324,13],[325,12,325,13],[326,12,326,13],[315,12,315,13],[316,12,316,13],[317,12,317,13],[318,12,318,13],[319,12,319,13],[320,12,320,13],[309,12,309,13],[310,12,310,13],[311,12,311,13],[312,12,312,13],[313,12,313,13],[314,12,314,13],[303,12,303,13],[304,12,304,13],[305,12,305,13],[306,12,306,13],[307,12,307,13],[308,12,308,13],[297,12,297,13],[298,12,298,13],[299,12,299,13],[300,12,300,13],[301,12,301,13],[302,12,302,13],[291,12,291,13],[292,12,292,13],[293,12,293,13],[294,12,294,13],[295,12,295,13],[296,12,296,13],[285,12,285,13],[286,12,286,13],[287,12,287,13],[288,12,288,13],[289,12,289,13],[290,12,290,13],[279,12,279,13],[280,12,280,13],[281,12,281,13],[282,12,282,13],[283,12,283,13],[284,12,284,13],[273,12,273,13],[274,12,274,13],[275,12,275,13],[276,12,276,13],[277,12,277,13],[278,12,278,13],[267,12,267,13],[268,12,268,13],[269,12,269,13],[270,12,270,13],[271,12,271,13],[272,12,272,13],[261,12,261,13],[262,12,262,13],[263,12,263,13],[264,12,264,13],[265,12,265,13],[266,12,266,13],[255,12,255,13],[256,12,256,13],[257,12,257,13],[258,12,258,13],[259,12,259,13],[260,12,260,13],[249,12,249,13],[250,12,250,13],[251,12,251,13],[252,12,252,13],[253,12,253,13],[254,12,254,13],[243,12,243,13],[244,12,244,13],[245,12,245,13],[246,12,246,13],[247,12,247,13],[248,12,248,13],[237,12,237,13],[238,12,238,13],[239,12,239,13],[240,12,240,13],[241,12,241,13],[242,12,242,13],[231,12,231,13],[232,12,232,13],[233,12,233,13],[234,12,234,13],[235,12,235,13],[236,12,236,13],[225,12,225,13],[226,12,226,13],[227,12,227,13],[228,12,228,13],[229,12,229,13],[230,12,230,13],[219,12,219,13],[220,12,220,13],[221,12,221,13],[222,12,222,13],[223,12,223,13],[224,12,224,13],[213,12,213,13],[214,12,214,13],[215,12,215,13],[216,12,216,13],[217,12,217,13],[218,12,218,13],[207,12,207,13],[208,12,208,13],[209,12,209,13],[210,12,210,13],[211,12,211,13],[212,12,212,13],[201,12,201,13],[202,12,202,13],[203,12,203,13],[204,12,204,13],[205,12,205,13],[206,12,206,13],[195,12,195,13],[196,12,196,13],[197,12,197,13],[198,12,198,13],[199,12,199,13],[200,12,200,13],[189,12,189,13],[190,12,190,13],[191,12,191,13],[192,12,192,13],[193,12,193,13],[194,12,194,13],[183,12,183,13],[184,12,184,13],[185,12,185,13],[186,12,186,13],[187,12,187,13],[188,12,188,13],[177,12,177,13],[178,12,178,13],[179,12,179,13],[180,12,180,13],[181,12,181,13],[182,12,182,13],[171,12,171,13],[172,12,172,13],[173,12,173,13],[174,12,174,13],[175,12,175,13],[176,12,176,13],[165,12,165,13],[166,12,166,13],[167,12,167,13],[168,12,168,13],[169,12,169,13],[170,12,170,13],[159,12,159,13],[160,12,160,13],[161,12,161,13],[162,12,162,13],[163,12,163,13],[164,12,164,13],[153,12,153,13],[154,12,154,13],[155,12,155,13],[156,12,156,13],[157,12,157,13],[158,12,158,13],[147,12,147,13],[148,12,148,13],[149,12,149,13],[150,12,150,13],[151,12,151,13],[152,12,152,13],[141,12,141,13],[142,12,142,13],[143,12,143,13],[144,12,144,13],[145,12,145,13],[146,12,146,13],[135,12,135,13],[136,12,136,13],[137,12,137,13],[138,12,138,13],[139,12,139,13],[140,12,140,13],[129,12,129,13],[130,12,130,13],[131,12,131,13],[132,12,132,13],[133,12,133,13],[134,12,134,13],[123,12,123,13],[124,12,124,13],[125,12,125,13],[126,12,126,13],[127,12,127,13],[128,12,128,13],[117,12,117,13],[118,12,118,13],[119,12,119,13],[120,12,120,13],[121,12,121,13],[122,12,122,13],[111,12,111,13],[112,12,112,13],[113,12,113,13],[114,12,114,13],[115,12,115,13],[116,12,116,13],[105,12,105,13],[106,12,106,13],[107,12,107,13],[108,12,108,13],[109,12,109,13],[110,12,110,13],[99,12,99,13],[100,12,100,13],[101,12,101,13],[102,12,102,13],[103,12,103,13],[104,12,104,13],[93,12,93,13],[94,12,94,13],[95,12,95,13],[96,12,96,13],[97,12,97,13],[98,12,98,13],[87,12,87,13],[88,12,88,13],[89,12,89,13],[90,12,90,13],[91,12,91,13],[92,12,92,13],[81,12,81,13],[82,12,82,13],[83,12,83,13],[84,12,84,13],[85,12,85,13],[86,12,86,13],[75,12,75,13],[76,12,76,13],[77,12,77,13],[78,12,78,13],[79,12,79,13],[80,12,80,13],[46,12,46,13],[47,12,47,13],[48,12,48,13],[49,12,49,13],[50,12,50,13],[51,12,51,13],[40,12,40,13],[41,12,41,13],[42,12,42,13],[43,12,43,13],[44,12,44,13],[45,12,45,13],[70,12,70,13],[71,12,71,13],[72,12,72,13],[73,12,73,13],[74,12,74,13],[64,12,64,13],[65,12,65,13],[66,12,66,13],[67,12,67,13],[68,12,68,13],[69,12,69,13],[58,12,58,13],[59,12,59,13],[60,12,60,13],[61,12,61,13],[62,12,62,13],[63,12,63,13],[489,6,489,8],[490,6,490,8],[491,6,491,8],[492,6,492,8],[28,12,28,13],[29,12,29,13],[30,12,30,13],[31,12,31,13],[32,12,32,13],[33,12,33,13],[483,6,483,8],[484,6,484,8],[485,6,485,8],[486,6,486,8],[487,6,487,8],[488,6,488,8],[477,6,477,8],[478,6,478,8],[479,6,479,8],[480,6,480,8],[481,6,481,8],[482,6,482,8],[471,6,471,8],[472,6,472,8],[473,6,473,8],[474,6,474,8],[52,12,52,13],[53,12,53,13],[54,12,54,13],[55,12,55,13],[56,12,56,13],[57,12,57,13],[475,6,475,8],[476,6,476,8],[465,6,465,8],[466,6,466,8],[467,6,467,8],[468,6,468,8],[469,6,469,8],[470,6,470,8],[459,6,459,8],[460,6,460,8],[461,6,461,8],[462,6,462,8],[463,6,463,8],[464,6,464,8],[453,6,453,8],[454,6,454,8],[455,6,455,8],[456,6,456,8],[457,6,457,8],[458,6,458,8],[447,6,447,8],[448,6,448,8],[449,6,449,8],[450,6,450,8],[451,6,451,8],[452,6,452,8],[441,6,441,8],[442,6,442,8],[443,6,443,8],[444,6,444,8],[445,6,445,8],[446,6,446,8],[435,6,435,8],[436,6,436,8],[437,6,437,8],[438,6,438,8],[439,6,439,8],[440,6,440,8],[429,6,429,8],[430,6,430,8],[431,6,431,8],[432,6,432,8],[433,6,433,8],[434,6,434,8],[423,6,423,8],[424,6,424,8],[425,6,425,8],[426,6,426,8],[427,6,427,8],[428,6,428,8],[417,6,417,8],[418,6,418,8],[419,6,419,8],[420,6,420,8],[421,6,421,8],[422,6,422,8],[411,6,411,8],[412,6,412,8],[413,6,413,8],[414,6,414,8],[415,6,415,8],[416,6,416,8],[405,6,405,8],[406,6,406,8],[407,6,407,8],[408,6,408,8],[409,6,409,8],[410,6,410,8],[399,6,399,8],[400,6,400,8],[401,6,401,8],[402,6,402,8],[403,6,403,8],[404,6,404,8],[393,6,393,8],[394,6,394,8],[395,6,395,8],[396,6,396,8],[397,6,397,8],[398,6,398,8],[387,6,387,8],[388,6,388,8],[389,6,389,8],[390,6,390,8],[391,6,391,8],[392,6,392,8],[381,6,381,8],[382,6,382,8],[383,6,383,8],[384,6,384,8],[385,6,385,8],[386,6,386,8],[375,6,375,8],[376,6,376,8],[377,6,377,8],[378,6,378,8],[379,6,379,8],[380,6,380,8],[369,6,369,8],[370,6,370,8],[371,6,371,8],[372,6,372,8],[373,6,373,8],[374,6,374,8],[363,6,363,8],[364,6,364,8],[365,6,365,8],[366,6,366,8],[367,6,367,8],[368,6,368,8],[357,6,357,8],[358,6,358,8],[359,6,359,8],[360,6,360,8],[361,6,361,8],[362,6,362,8],[351,6,351,8],[352,6,352,8],[353,6,353,8],[354,6,354,8],[355,6,355,8],[356,6,356,8],[345,6,345,8],[346,6,346,8],[347,6,347,8],[348,6,348,8],[349,6,349,8],[350,6,350,8],[339,6,339,8],[340,6,340,8],[341,6,341,8],[342,6,342,8],[343,6,343,8],[344,6,344,8],[333,6,333,8],[334,6,334,8],[335,6,335,8],[336,6,336,8],[337,6,337,8],[338,6,338,8],[327,6,327,8],[328,6,328,8],[329,6,329,8],[330,6,330,8],[331,6,331,8],[332,6,332,8],[321,6,321,8],[322,6,322,8],[323,6,323,8],[324,6,324,8],[325,6,325,8],[326,6,326,8],[315,6,315,8],[316,6,316,8],[317,6,317,8],[318,6,318,8],[319,6,319,8],[320,6,320,8],[309,6,309,8],[310,6,310,8],[311,6,311,8],[312,6,312,8],[313,6,313,8],[314,6,314,8],[303,6,303,8],[304,6,304,8],[305,6,305,8],[306,6,306,8],[307,6,307,8],[308,6,308,8],[297,6,297,8],[298,6,298,8],[299,6,299,8],[300,6,300,8],[301,6,301,8],[302,6,302,8],[291,6,291,8],[292,6,292,8],[293,6,293,8],[294,6,294,8],[295,6,295,8],[296,6,296,8],[285,6,285,8],[286,6,286,8],[287,6,287,8],[288,6,288,8],[289,6,289,8],[290,6,290,8],[279,6,279,8],[280,6,280,8],[281,6,281,8],[282,6,282,8],[283,6,283,8],[284,6,284,8],[273,6,273,8],[274,6,274,8],[275,6,275,8],[276,6,276,8],[277,6,277,8],[278,6,278,8],[267,6,267,8],[268,6,268,8],[269,6,269,8],[270,6,270,8],[271,6,271,8],[272,6,272,8],[261,6,261,8],[262,6,262,8],[263,6,263,8],[264,6,264,8],[265,6,265,8],[266,6,266,8],[255,6,255,8],[256,6,256,8],[257,6,257,8],[258,6,258,8],[259,6,259,8],[260,6,260,8],[249,6,249,8],[250,6,250,8],[251,6,251,8],[252,6,252,8],[253,6,253,8],[254,6,254,8],[243,6,243,8],[244,6,244,8],[245,6,245,8],[246,6,246,8],[247,6,247,8],[248,6,248,8],[237,6,237,8],[238,6,238,8],[239,6,239,8],[240,6,240,8],[241,6,241,8],[242,6,242,8],[231,6,231,8],[232,6,232,8],[233,6,233,8],[234,6,234,8],[235,6,235,8],[236,6,236,8],[225,6,225,8],[226,6,226,8],[227,6,227,8],[228,6,228,8],[229,6,229,8],[230,6,230,8],[219,6,219,8],[220,6,220,8],[221,6,221,8],[222,6,222,8],[223,6,223,8],[224,6,224,8],[213,6,213,8],[214,6,214,8],[215,6,215,8],[216,6,216,8],[217,6,217,8],[218,6,218,8],[207,6,207,8],[208,6,208,8],[209,6,209,8],[210,6,210,8],[211,6,211,8],[212,6,212,8],[201,6,201,8],[202,6,202,8],[203,6,203,8],[204,6,204,8],[205,6,205,8],[206,6,206,8],[195,6,195,8],[196,6,196,8],[197,6,197,8],[198,6,198,8],[199,6,199,8],[200,6,200,8],[189,6,189,8],[190,6,190,8],[191,6,191,8],[192,6,192,8],[193,6,193,8],[194,6,194,8],[183,6,183,8],[184,6,184,8],[185,6,185,8],[186,6,186,8],[187,6,187,8],[188,6,188,8],[177,6,177,8],[178,6,178,8],[179,6,179,8],[180,6,180,8],[181,6,181,8],[182,6,182,8],[171,6,171,8],[172,6,172,8],[173,6,173,8],[174,6,174,8],[175,6,175,8],[176,6,176,8],[165,6,165,8],[166,6,166,8],[167,6,167,8],[168,6,168,8],[169,6,169,8],[170,6,170,8],[159,6,159,8],[160,6,160,8],[161,6,161,8],[162,6,162,8],[163,6,163,8],[164,6,164,8],[153,6,153,8],[154,6,154,8],[155,6,155,8],[156,6,156,8],[157,6,157,8],[158,6,158,8],[147,6,147,8],[148,6,148,8],[149,6,149,8],[150,6,150,8],[151,6,151,8],[152,6,152,8],[141,6,141,8],[142,6,142,8],[143,6,143,8],[144,6,144,8],[145,6,145,8],[146,6,146,8],[135,6,135,8],[136,6,136,8],[137,6,137,8],[138,6,138,8],[139,6,139,8],[140,6,140,8],[129,6,129,8],[130,6,130,8],[131,6,131,8],[132,6,132,8],[133,6,133,8],[134,6,134,8],[123,6,123,8],[124,6,124,8],[125,6,125,8],[126,6,126,8],[127,6,127,8],[128,6,128,8],[117,6,117,8],[118,6,118,8],[119,6,119,8],[120,6,120,8],[121,6,121,8],[122,6,122,8],[111,6,111,8],[112,6,112,8],[113,6,113,8],[114,6,114,8],[115,6,115,8],[116,6,116,8],[105,6,105,8],[106,6,106,8],[107,6,107,8],[108,6,108,8],[109,6,109,8],[110,6,110,8],[99,6,99,8],[100,6,100,8],[101,6,101,8],[102,6,102,8],[103,6,103,8],[104,6,104,8],[93,6,93,8],[94,6,94,8],[95,6,95,8],[96,6,96,8],[97,6,97,8],[98,6,98,8],[87,6,87,8],[88,6,88,8],[89,6,89,8],[90,6,90,8],[91,6,91,8],[92,6,92,8],[81,6,81,8],[82,6,82,8],[83,6,83,8],[84,6,84,8],[85,6,85,8],[86,6,86,8],[75,6,75,8],[76,6,76,8],[77,6,77,8],[78,6,78,8],[79,6,79,8],[80,6,80,8],[70,6,70,8],[71,6,71,8],[72,6,72,8],[73,6,73,8],[74,6,74,8],[64,6,64,8],[65,6,65,8],[66,6,66,8],[67,6,67,8],[68,6,68,8],[69,6,69,8],[58,6,58,8],[59,6,59,8],[60,6,60,8],[61,6,61,8],[62,6,62,8],[63,6,63,8],[985,2,985,5],[986,2,986,5],[987,2,987,5],[51,6,51,8],[52,6,52,8],[53,6,53,8],[54,6,54,8],[55,6,55,8],[56,6,56,8],[57,6,57,8],[979,2,979,5],[980,2,980,5],[981,2,981,5],[982,2,982,5],[983,2,983,5],[984,2,984,5],[973,2,973,5],[974,2,974,5],[975,2,975,5],[976,2,976,5],[977,2,977,5],[978,2,978,5],[967,2,967,5],[968,2,968,5],[969,2,969,5],[970,2,970,5],[971,2,971,5],[972,2,972,5],[961,2,961,5],[962,2,962,5],[963,2,963,5],[964,2,964,5],[965,2,965,5],[966,2,966,5],[955,2,955,5],[956,2,956,5],[957,2,957,5],[958,2,958,5],[959,2,959,5],[960,2,960,5],[949,2,949,5],[950,2,950,5],[951,2,951,5],[952,2,952,5],[953,2,953,5],[954,2,954,5],[943,2,943,5],[944,2,944,5],[945,2,945,5],[946,2,946,5],[947,2,947,5],[948,2,948,5],[937,2,937,5],[938,2,938,5],[939,2,939,5],[940,2,940,5],[941,2,941,5],[942,2,942,5],[931,2,931,5],[932,2,932,5],[933,2,933,5],[934,2,934,5],[935,2,935,5],[936,2,936,5],[925,2,925,5],[926,2,926,5],[927,2,927,5]],"merged_total":2014,"flags":["merged_cut"]}
[null,null,null,null,null,null,null,null,null,null,"ห้างหุ้นส่วน จำกัด วอร์ด เมดิก",null,null,null,"บริษัท เอทีจีซี จำจัด "]
[null,null,null,null,null,null,null,null,null,null,"9 อาคารดลจารุมณี ชั้น 4 ถ.สุขุมวิท 65 พระโขนงเหนือ ",null,null,null,"เลขที่ 141 อุทยานวิทยาศาสตร์ประเทศไทย อาคารกลุ่มนวัตกรรม 2 ทาวเวอร์ D  ชั้น 3"]
[null,null,null,null,null,null,null,null,null,null,"วัฒนา จังหวัด กรุงเทพมหานคร 10110",null,null,null,"ห้องเลขที่ INC2D 313-314 หมู่ที่ 9 ถ. พหลโยธิน ต.คลองหนึ่ง อ.คลองหลวง จ.ปทุมธานี 12120"]
[null,null,null,null,null,null,null,null,null,null,"www.wardmedic.com ; Tel: 02 3918000",null,null,null,"E-mail: admin@atgc.co.th ; Tel: 063 578 9877"]
["Customer Information",null,null,null,null,null,null,null,null,null,null,"Order ID",null,null,"Sample and Primer Preparation Requirements"]
[null,null,null,null,null,null,null,null,null,null,null,"AWB",null,null,"Sample and Primer",null,null,"Required Concentration & Volume "]
["Date",null,null,null,null,null,null,null,null,null,null,null,null,null,"Purified PCR Product [90-250 bp]",null,null,"10 ng/μL, min 10 μL per reaction in dH2O"]
["Name",null,null,null,null,null,null,null,null,null,null,null,null,null,"Purified PCR Product [251-500 bp]",null,null,"20 ng/μL, min 10 μL per reaction in dH2O"]
["Univ./Company",null,null,null,null,null,null,null,null,null,null,null,null,null,"Purified PCR Product [>500 bp]",null,null,"40 ng/μL, min 10 μL per reaction in dH2O"]
["Address",null,null,null,null,null,null,null,null,null,null,null,null,null,"Purified Plasmid/ Fosmid/ Cosmid/ BAC",null,null,"100 ng/μL, min 10 μL per reaction in dH2O"]
["Tel.",null,null,null,null,null,null,null,null,null,null,null,null,null,"Purified M13/ phagemid ssDNA",null,null,"50 ng/μL, min 10 μL per reaction in dH2O"]
["E-mail",null,null,null,null,null,null,null,null,null,null,null,null,null,"Purified Genomic DNA",null,null,"400 ng/μL, min 20 μL per reaction in dH2O"]
[null,null,null,null,null,null,null,null,null,null,null,null,null,null,"Unpurified PCR products ",null,null,"min 50 μL per reaction in dH2O"]
[null,null,null,null,null,null,null,null,null,null,null,null,null,null,"Custom Primers",null,null,"10 pmol/μL or 10 μM, min 10 μL per reaction in dH2O"]
[null,null,null,null,null,null,null,null,null,null,null,null,null,null,"Universal Primers",null,null,"Provided by ATGC company"]
[]
["Type of Services",null,null,null,null,null,null,null,null,null,null,null,null,null,null,null,null,null,"Order Summary"]
[null,null,null,"Single Pass DNA Sequencing",null,null,null,null,null,null,null,null,null,null,null,null,null,null,"Total No. of Reaction",{"$f":"COUNTA(C28:C493)","v":0}]
[null,null,null,"Ready-to-Load Sequencing (We accept BDT V.3.1)"]
[null,null,null,"Ready-to-Load Sequencing with Clean Up (We accept BDT V.3.1).        ",null,null,null,null,null,null,"Please indicate Total Rxn vol: ",null,"µl; BDT used:                            µl",null,null,null,null,null,"Total No. of Sample",{"$f":"SUMPRODUCT((C28:C493<>\"\")/(COUNTIF(C28:C493,C28:C493&\"\")))","v":0}]
[null,null,null,"Difficult Template Sequencing, Please indicate:"]
[]
["General Order Information"]
[null,null,null,"For sample sent in plate please click"]
[]
["No.","Well","Information Sample ",null,null,null,null,null,null,null,null,null,"Information Primer Sequencing",null,null,null,"Pre-treatment",null,"Sample","No. of Reaction Run"]
[null,null,"Sample ",null,null,null,"Type of DNA",null,null,"Vector Name ","Target size (bp)","Total size (bp) (Vector size+target size)","Primer Name",null,"Conc. (pmol/µl or µM)","Tm (˚C)","Type of Add on service"]
[1,"A1"]
[2,"A2"]
[3,"A3"]
[4,"A4"]
[5,"A5"]
[6,"A6"]
[7,"A7"]
[8,"A8"]
[9,"A9"]
[10,"A10"]
[11,"A11"]
[12,"A12"]
[13,"B1"]
[14,"B2"]
[15,"B3"]
[16,"B4"]
[17,"B5"]
[18,"B6"]
[19,"B7"]
[20,"B8"]
[21,"B9"]
[22,"B10"]
[23,"B11"]
[24,"B12"]
[25,"C1"]
[26,"C2"]
[27,"C3"]
[28,"C4"]
[29,"C5"]
[30,"C6"]
[31,"C7"]
[32,"C8"]
[33,"C9"]
[34,"C10"]
[35,"C11"]
[36,"C12"]
[37,"D1"]
[38,"D2"]
[39,"D3"]
[40,"D4"]
[41,"D5"]
[42,"D6"]
[43,"D7"]
[44,"D8"]
[45,"D9"]
[46,"D10"]
[47,"D11"]
[48,"D12"]
[49,"E1"]
[50,"E2"]
[51,"E3"]
[52,"E4"]
[53,"E5"]
[54,"E6"]
[55,"E7"]
[56,"E8"]
[57,"E9"]
[58,"E10"]
[59,"E11"]
[60,"E12"]
[61,"F1"]
[62,"F2"]
[63,"F3"]
[64,"F4"]
[65,"F5"]
[66,"F6"]
[67,"F7"]
[68,"F8"]
[69,"F9"]
[70,"F10"]
[71,"F11"]
[72,"F12"]
[73,"G1"]
[74,"G2"]
[75,"G3"]
[76,"G4"]
[77,"G5"]
[78,"G6"]
[79,"G7"]
[80,"G8"]
[81,"G9"]
[82,"G10"]
[83,"G11"]
[84,"G12"]
[85,"H1"]
[86,"H2"]
[87,"H3"]
[88,"H4"]
[89,"H5"]
[90,"H6"]
[91,"H7"]
[92,"H8"]
[93,"H9"]
[94,"H10"]
[95,"H11"]
[96,"H12"]
[97]
[98]
[99]
[100]
[101]
[102]
[103]
[104]
[105]
[106]
[107]
[108]
[109]
[110]
[111]
[112]
[113]
[114]
[115]
[116]
[117]
[118]
[119]
[120]
[121]
[122]
[123]
[124]
[125]
[126]
[127]
[128]
[129]
[130]
[131]
[132]
[133]
[134]
[135]
[136]
[137]
[138]
[139]
[140]
[141]
[142]
[143]
[144]
[145]
[146]
[147]
[148]
[149]
[150]
[151]
[152]
[153]
[154]
[155]
[156]
[157]
[158]
[159]
[160]
[161]
[162]
[163]
[164]
[165]
[166]
[167]
[168]
[169]
[170]
[171]
[172]
[173]
[174]
[175]
[176]
[177]
[178]
[179]
[180]
[181]
[182]
[183]
[184]
[185]
[186]
[187]
[188]
[189]
[190]
[191]
[192]
[193]
[194]
[195]
[196]
[197]
[198]
[199]
[200]
[201]
[202]
[203]
[204]
[205]
[206]
[207]
[208]
[209]
[210]
[211]
[212]
[213]
[214]
[215]
[216]
[217]
[218]
[219]
[220]
[221]
[222]
[223]
[224]
[225]
[226]
[227]
[228]
[229]
[230]
[231]
[232]
[233]
[234]
[235]
[236]
[237]
[238]
[239]
[240]
[241]
[242]
[243]
[244]
[245]
[246]
[247]
[248]
[249]
[250]
[251]
[252]
[253]
[254]
[255]
[256]
[257]
[258]
[259]
[260]
[261]
[262]
[263]
[264]
[265]
[266]
[267]
[268]
[269]
[270]
[271]
[272]
[273]
[274]
[275]
[276]
[277]
[278]
[279]
[280]
[281]
[282]
[283]
[284]
[285]
[286]
[287]
[288]
[289]
[290]
[291]
[292]
[293]
[294]
[295]
[296]
[297]
[298]
[299]
[300]
[301]
[302]
[303]
[304]
[305]
[306]
[307]
[308]
[309]
[310]
[311]
[312]
[313]
[314]
[315]
[316]
[317]
[318]
[319]
[320]
[321]
[322]
[323]
[324]
[325]
[326]
[327]
[328]
[329]
[330]
[331]
[332]
[333]
[334]
[335]
[336]
[337]
[338]
[339]
[340]
[341]
[342]
[343]
[344]
[345]
[346]
[347]
[348]
[349]
[350]
[351]
[352]
[353]
[354]
[355]
[356]
[357]
[358]
[359]
[360]
[361]
[362]
[363]
[364]
[365]
[366]
[367]
[368]
[369]
[370]
[371]
[372]
[373]
[374]
[375]
[376]
[377]
[378]
[379]
[380]
[381]
[382]
[383]
[384]
[385]
[386]
[387]
[388]
[389]
[390]
[391]
[392]
[393]
[394]
[395]
[396]
[397]
[398]
[399]
[400]
[401]
[402]
[403]
[404]
[405]
[406]
[407]
[408]
[409]
[410]
[411]
[412]
[413]
[414]
[415]
[416]
[417]
[418]
[419]
[420]
[421]
[422]
[423]
[424]
[425]
[426]
[427]
[428]
[429]
[430]
[431]
[432]
[433]
[434]
[435]
[436]
[437]
[438]
[439]
[440]
[441]
[442]
[443]
[444]
[445]
[446]
[447]
[448]
[449]
[450]
[451]
[452]
[453]
[454]
[455]
[456]
[457]
[458]
[459]
[460]
[461]
[462]
[463]
[464]
[465]
[466]
[467]
[468]
[469]
[470]
[471]
[472]
[473]
[474]
[475]
[476]
[477]
[478]
[479]
[480]
[481]
[482]
[483]
[484]
[485]
[486]
[487]
[488]
[489]
[490]
[491]
[492]
[493]
[494]
[495]
[496]
[497]
[498]
[499]
[500]

{"sheet":"Repeated sample_Free","index":1,"n_rows":208,"n_cols":6,"rows_kept":208,"cut":false,"hidden":true,"merged":[[0,0,0,1],[1,0,1,1],[1,2,1,3],[0,4,0,5],[1,4,1,5]]}
["QC Form of Samples",null,null,"Order ID : ",{"$f":"'Order form'!M5","v":0}]
["Date: ",null,"Type of sample : ",null,{"$f":"'Order form'!G28","v":0}]
["No.","Sample name","Conc. (ng/µl)","A260/A280","A230/A280","DNA band"]
[1,{"$f":"'Order form'!S28","v":0}]
[2,{"$f":"'Order form'!S29","v":0}]
[3,{"$f":"'Order form'!S30","v":0}]
[4,{"$f":"'Order form'!S31","v":0}]
[5,{"$f":"'Order form'!S32","v":0}]
[6,{"$f":"'Order form'!S33","v":0}]
[7,{"$f":"'Order form'!S34","v":0}]
[8,{"$f":"'Order form'!S35","v":0}]
[9,{"$f":"'Order form'!S36","v":0}]
[10,{"$f":"'Order form'!S37","v":0}]
[11,{"$f":"'Order form'!S38","v":0}]
[12,{"$f":"'Order form'!S39","v":0}]
[13,{"$f":"'Order form'!S40","v":0}]
[14,{"$f":"'Order form'!S41","v":0}]
[15,{"$f":"'Order form'!S42","v":0}]
[16,{"$f":"'Order form'!S43","v":0}]
[17,{"$f":"'Order form'!S44","v":0}]
[18,{"$f":"'Order form'!S45","v":0}]
[19,{"$f":"'Order form'!S46","v":0}]
[20,{"$f":"'Order form'!S47","v":0}]
[21,{"$f":"'Order form'!S48","v":0}]
[22,{"$f":"'Order form'!S49","v":0}]
[23,{"$f":"'Order form'!S50","v":0}]
[24,{"$f":"'Order form'!S51","v":0}]
[25,{"$f":"'Order form'!S52","v":0}]
[26,{"$f":"'Order form'!S53","v":0}]
[27,{"$f":"'Order form'!S54","v":0}]
[28,{"$f":"'Order form'!S55","v":0}]
[29,{"$f":"'Order form'!S56","v":0}]
[30,{"$f":"'Order form'!S57","v":0}]
[31,{"$f":"'Order form'!S58","v":0}]
[32,{"$f":"'Order form'!S59","v":0}]
[33,{"$f":"'Order form'!S60","v":0}]
[34,{"$f":"'Order form'!S61","v":0}]
[35,{"$f":"'Order form'!S62","v":0}]
[36,{"$f":"'Order form'!S63","v":0}]
[37,{"$f":"'Order form'!S64","v":0}]
[38,{"$f":"'Order form'!S65","v":0}]
[39,{"$f":"'Order form'!S66","v":0}]
[40,{"$f":"'Order form'!S67","v":0}]
[41,{"$f":"'Order form'!S68","v":0}]
[42,{"$f":"'Order form'!S69","v":0}]
[43,{"$f":"'Order form'!S70","v":0}]
[44,{"$f":"'Order form'!S71","v":0}]
[45,{"$f":"'Order form'!S72","v":0}]
[46,{"$f":"'Order form'!S73","v":0}]
[47,{"$f":"'Order form'!S74","v":0}]
[48,{"$f":"'Order form'!S75","v":0}]
[49,{"$f":"'Order form'!S76","v":0}]
[50,{"$f":"'Order form'!S77","v":0}]
[51,{"$f":"'Order form'!S78","v":0}]
[52,{"$f":"'Order form'!S79","v":0}]
[53,{"$f":"'Order form'!S80","v":0}]
[54,{"$f":"'Order form'!S81","v":0}]
[55,{"$f":"'Order form'!S82","v":0}]
[56,{"$f":"'Order form'!S83","v":0}]
[57,{"$f":"'Order form'!S84","v":0}]
[58,{"$f":"'Order form'!S85","v":0}]
[59,{"$f":"'Order form'!S86","v":0}]
[60,{"$f":"'Order form'!S87","v":0}]
[61,{"$f":"'Order form'!S88","v":0}]
[62,{"$f":"'Order form'!S89","v":0}]
[63,{"$f":"'Order form'!S90","v":0}]
[64,{"$f":"'Order form'!S91","v":0}]
[65,{"$f":"'Order form'!S92","v":0}]
[66,{"$f":"'Order form'!S93","v":0}]
[67,{"$f":"'Order form'!S94","v":0}]
[68,{"$f":"'Order form'!S95","v":0}]
[69,{"$f":"'Order form'!S96","v":0}]
[70,{"$f":"'Order form'!S97","v":0}]
[71,{"$f":"'Order form'!S98","v":0}]
[72,{"$f":"'Order form'!S99","v":0}]
[73,{"$f":"'Order form'!S100","v":0}]
[74,{"$f":"'Order form'!S101","v":0}]
[75,{"$f":"'Order form'!S102","v":0}]
[76,{"$f":"'Order form'!S103","v":0}]
[77,{"$f":"'Order form'!S104","v":0}]
[78,{"$f":"'Order form'!S105","v":0}]
[79,{"$f":"'Order form'!S106","v":0}]
[80,{"$f":"'Order form'!S107","v":0}]
[81,{"$f":"'Order form'!S108","v":0}]
[82,{"$f":"'Order form'!S109","v":0}]
[83,{"$f":"'Order form'!S110","v":0}]
[84,{"$f":"'Order form'!S111","v":0}]
[85,{"$f":"'Order form'!S112","v":0}]
[86,{"$f":"'Order form'!S113","v":0}]
[87,{"$f":"'Order form'!S114","v":0}]
[88,{"$f":"'Order form'!S115","v":0}]
[89,{"$f":"'Order form'!S116","v":0}]
[90,{"$f":"'Order form'!S117","v":0}]
[91,{"$f":"'Order form'!S118","v":0}]
[92,{"$f":"'Order form'!S119","v":0}]
[93,{"$f":"'Order form'!S120","v":0}]
[94,{"$f":"'Order form'!S121","v":0}]
[95,{"$f":"'Order form'!S122","v":0}]
[96,{"$f":"'Order form'!S123","v":0}]
[97,{"$f":"'Order form'!S124","v":0}]
[98,{"$f":"'Order form'!S125","v":0}]
[99,{"$f":"'Order form'!S126","v":0}]
[100,{"$f":"'Order form'!S127","v":0}]
[101,{"$f":"'Order form'!S128","v":0}]
[102,{"$f":"'Order form'!S129","v":0}]
[103,{"$f":"'Order form'!S130","v":0}]
[104,{"$f":"'Order form'!S131","v":0}]
[105,{"$f":"'Order form'!S132","v":0}]
[106,{"$f":"'Order form'!S133","v":0}]
[107,{"$f":"'Order form'!S134","v":0}]
[108,{"$f":"'Order form'!S135","v":0}]
[109,{"$f":"'Order form'!S136","v":0}]
[110,{"$f":"'Order form'!S137","v":0}]
[111,{"$f":"'Order form'!S138","v":0}]
[112,{"$f":"'Order form'!S139","v":0}]
[113,{"$f":"'Order form'!S140","v":0}]
[114,{"$f":"'Order form'!S141","v":0}]
[115,{"$f":"'Order form'!S142","v":0}]
[116,{"$f":"'Order form'!S143","v":0}]
[117,{"$f":"'Order form'!S144","v":0}]
[118,{"$f":"'Order form'!S145","v":0}]
[119,{"$f":"'Order form'!S146","v":0}]
[120,{"$f":"'Order form'!S147","v":0}]
[121,{"$f":"'Order form'!S148","v":0}]
[122,{"$f":"'Order form'!S149","v":0}]
[123,{"$f":"'Order form'!S150","v":0}]
[124,{"$f":"'Order form'!S151","v":0}]
[125,{"$f":"'Order form'!S152","v":0}]
[126,{"$f":"'Order form'!S153","v":0}]
[127,{"$f":"'Order form'!S154","v":0}]
[128,{"$f":"'Order form'!S155","v":0}]
[129,{"$f":"'Order form'!S156","v":0}]
[130,{"$f":"'Order form'!S157","v":0}]
[131,{"$f":"'Order form'!S158","v":0}]
[132,{"$f":"'Order form'!S159","v":0}]
[133,{"$f":"'Order form'!S160","v":0}]
[134,{"$f":"'Order form'!S161","v":0}]
[135,{"$f":"'Order form'!S162","v":0}]
[136,{"$f":"'Order form'!S163","v":0}]
[137,{"$f":"'Order form'!S164","v":0}]
[138,{"$f":"'Order form'!S165","v":0}]
[139,{"$f":"'Order form'!S166","v":0}]
[140,{"$f":"'Order form'!S167","v":0}]
[141,{"$f":"'Order form'!S168","v":0}]
[142,{"$f":"'Order form'!S169","v":0}]
[143,{"$f":"'Order form'!S170","v":0}]
[144,{"$f":"'Order form'!S171","v":0}]
[145,{"$f":"'Order form'!S172","v":0}]
[146,{"$f":"'Order form'!S173","v":0}]
[147,{"$f":"'Order form'!S174","v":0}]
[148,{"$f":"'Order form'!S175","v":0}]
[149,{"$f":"'Order form'!S176","v":0}]
[150,{"$f":"'Order form'!S177","v":0}]
[151,{"$f":"'Order form'!S178","v":0}]
[152,{"$f":"'Order form'!S179","v":0}]
[153,{"$f":"'Order form'!S180","v":0}]
[154,{"$f":"'Order form'!S181","v":0}]
[155,{"$f":"'Order form'!S182","v":0}]
[156,{"$f":"'Order form'!S183","v":0}]
[157,{"$f":"'Order form'!S184","v":0}]
[158,{"$f":"'Order form'!S185","v":0}]
[159,{"$f":"'Order form'!S186","v":0}]
[160,{"$f":"'Order form'!S187","v":0}]
[161,{"$f":"'Order form'!S188","v":0}]
[162,{"$f":"'Order form'!S189","v":0}]
[163,{"$f":"'Order form'!S190","v":0}]
[164,{"$f":"'Order form'!S191","v":0}]
[165,{"$f":"'Order form'!S192","v":0}]
[166,{"$f":"'Order form'!S193","v":0}]
[167,{"$f":"'Order form'!S194","v":0}]
[168,{"$f":"'Order form'!S195","v":0}]
[169,{"$f":"'Order form'!S196","v":0}]
[170,{"$f":"'Order form'!S197","v":0}]
[171,{"$f":"'Order form'!S198","v":0}]
[172,{"$f":"'Order form'!S199","v":0}]
[173,{"$f":"'Order form'!S200","v":0}]
[174,{"$f":"'Order form'!S201","v":0}]
[175,{"$f":"'Order form'!S202","v":0}]
[176,{"$f":"'Order form'!S203","v":0}]
[177,{"$f":"'Order form'!S204","v":0}]
[178,{"$f":"'Order form'!S205","v":0}]
[179,{"$f":"'Order form'!S206","v":0}]
[180,{"$f":"'Order form'!S207","v":0}]
[181,{"$f":"'Order form'!S208","v":0}]
[182,{"$f":"'Order form'!S209","v":0}]
[183,{"$f":"'Order form'!S210","v":0}]
[184,{"$f":"'Order form'!S211","v":0}]
[185,{"$f":"'Order form'!S212","v":0}]
[186,{"$f":"'Order form'!S213","v":0}]
[187,{"$f":"'Order form'!S214","v":0}]
[188,{"$f":"'Order form'!S215","v":0}]
[189,{"$f":"'Order form'!S216","v":0}]
[190,{"$f":"'Order form'!S217","v":0}]
[191,{"$f":"'Order form'!S218","v":0}]
[192,{"$f":"'Order form'!S219","v":0}]
[193,{"$f":"'Order form'!S220","v":0}]
[194,{"$f":"'Order form'!S221","v":0}]
[195,{"$f":"'Order form'!S222","v":0}]
[196,{"$f":"'Order form'!S223","v":0}]
[197,{"$f":"'Order form'!S224","v":0}]
[198,{"$f":"'Order form'!S225","v":0}]
[199,{"$f":"'Order form'!S226","v":0}]
[200,{"$f":"'Order form'!S227","v":0}]
[201,{"$f":"'Order form'!S228","v":0}]
[202,{"$f":"'Order form'!S229","v":0}]
[203,{"$f":"'Order form'!S230","v":0}]
[204,{"$f":"'Order form'!S231","v":0}]
[205,{"$f":"'Order form'!S232","v":0}]

{"sheet":"OD_unpurified samp.","index":2,"n_rows":208,"n_cols":7,"rows_kept":208,"cut":false,"hidden":true,"merged":[[1,5,1,6],[0,5,0,6],[0,0,0,1],[1,0,1,1]]}
["QC Form of Samples",null,null,null,"Order ID : ",{"$f":"'Order form'!M5","v":0}]
["Date: ",null,null,null,"Type of sample : ",{"$f":"'Order form'!G28","v":0}]
["No.","Sample name","Conc. (ng/µl)","A260/A280","A230/A280","DNA band","*Direct sequencing"]
[1,{"$f":"'Order form'!S28","v":0}]
[2,{"$f":"'Order form'!S29","v":0}]
[3,{"$f":"'Order form'!S30","v":0}]
[4,{"$f":"'Order form'!S31","v":0}]
[5,{"$f":"'Order form'!S32","v":0}]
[6,{"$f":"'Order form'!S33","v":0}]
[7,{"$f":"'Order form'!S34","v":0}]
[8,{"$f":"'Order form'!S35","v":0}]
[9,{"$f":"'Order form'!S36","v":0}]
[10,{"$f":"'Order form'!S37","v":0}]
[11,{"$f":"'Order form'!S38","v":0}]
[12,{"$f":"'Order form'!S39","v":0}]
[13,{"$f":"'Order form'!S40","v":0}]
[14,{"$f":"'Order form'!S41","v":0}]
[15,{"$f":"'Order form'!S42","v":0}]
[16,{"$f":"'Order form'!S43","v":0}]
[17,{"$f":"'Order form'!S44","v":0}]
[18,{"$f":"'Order form'!S45","v":0}]
[19,{"$f":"'Order form'!S46","v":0}]
[20,{"$f":"'Order form'!S47","v":0}]
[21,{"$f":"'Order form'!S48","v":0}]
[22,{"$f":"'Order form'!S49","v":0}]
[23,{"$f":"'Order form'!S50","v":0}]
[24,{"$f":"'Order form'!S51","v":0}]
[25,{"$f":"'Order form'!S52","v":0}]
[26,{"$f":"'Order form'!S53","v":0}]
[27,{"$f":"'Order form'!S54","v":0}]
[28,{"$f":"'Order form'!S55","v":0}]
[29,{"$f":"'Order form'!S56","v":0}]
[30,{"$f":"'Order form'!S57","v":0}]
[31,{"$f":"'Order form'!S58","v":0}]
[32,{"$f":"'Order form'!S59","v":0}]
[33,{"$f":"'Order form'!S60","v":0}]
[34,{"$f":"'Order form'!S61","v":0}]
[35,{"$f":"'Order form'!S62","v":0}]
[36,{"$f":"'Order form'!S63","v":0}]
[37,{"$f":"'Order form'!S64","v":0}]
[38,{"$f":"'Order form'!S65","v":0}]
[39,{"$f":"'Order form'!S66","v":0}]
[40,{"$f":"'Order form'!S67","v":0}]
[41,{"$f":"'Order form'!S68","v":0}]
[42,{"$f":"'Order form'!S69","v":0}]
[43,{"$f":"'Order form'!S70","v":0}]
[44,{"$f":"'Order form'!S71","v":0}]
[45,{"$f":"'Order form'!S72","v":0}]
[46,{"$f":"'Order form'!S73","v":0}]
[47,{"$f":"'Order form'!S74","v":0}]
[48,{"$f":"'Order form'!S75","v":0}]
[49,{"$f":"'Order form'!S76","v":0}]
[50,{"$f":"'Order form'!S77","v":0}]
[51,{"$f":"'Order form'!S78","v":0}]
[52,{"$f":"'Order form'!S79","v":0}]
[53,{"$f":"'Order form'!S80","v":0}]
[54,{"$f":"'Order form'!S81","v":0}]
[55,{"$f":"'Order form'!S82","v":0}]
[56,{"$f":"'Order form'!S83","v":0}]
[57,{"$f":"'Order form'!S84","v":0}]
[58,{"$f":"'Order form'!S85","v":0}]
[59,{"$f":"'Order form'!S86","v":0}]
[60,{"$f":"'Order form'!S87","v":0}]
[61,{"$f":"'Order form'!S88","v":0}]
[62,{"$f":"'Order form'!S89","v":0}]
[63,{"$f":"'Order form'!S90","v":0}]
[64,{"$f":"'Order form'!S91","v":0}]
[65,{"$f":"'Order form'!S92","v":0}]
[66,{"$f":"'Order form'!S93","v":0}]
[67,{"$f":"'Order form'!S94","v":0}]
[68,{"$f":"'Order form'!S95","v":0}]
[69,{"$f":"'Order form'!S96","v":0}]
[70,{"$f":"'Order form'!S97","v":0}]
[71,{"$f":"'Order form'!S98","v":0}]
[72,{"$f":"'Order form'!S99","v":0}]
[73,{"$f":"'Order form'!S100","v":0}]
[74,{"$f":"'Order form'!S101","v":0}]
[75,{"$f":"'Order form'!S102","v":0}]
[76,{"$f":"'Order form'!S103","v":0}]
[77,{"$f":"'Order form'!S104","v":0}]
[78,{"$f":"'Order form'!S105","v":0}]
[79,{"$f":"'Order form'!S106","v":0}]
[80,{"$f":"'Order form'!S107","v":0}]
[81,{"$f":"'Order form'!S108","v":0}]
[82,{"$f":"'Order form'!S109","v":0}]
[83,{"$f":"'Order form'!S110","v":0}]
[84,{"$f":"'Order form'!S111","v":0}]
[85,{"$f":"'Order form'!S112","v":0}]
[86,{"$f":"'Order form'!S113","v":0}]
[87,{"$f":"'Order form'!S114","v":0}]
[88,{"$f":"'Order form'!S115","v":0}]
[89,{"$f":"'Order form'!S116","v":0}]
[90,{"$f":"'Order form'!S117","v":0}]
[91,{"$f":"'Order form'!S118","v":0}]
[92,{"$f":"'Order form'!S119","v":0}]
[93,{"$f":"'Order form'!S120","v":0}]
[94,{"$f":"'Order form'!S121","v":0}]
[95,{"$f":"'Order form'!S122","v":0}]
[96,{"$f":"'Order form'!S123","v":0}]
[97,{"$f":"'Order form'!S124","v":0}]
[98,{"$f":"'Order form'!S125","v":0}]
[99,{"$f":"'Order form'!S126","v":0}]
[100,{"$f":"'Order form'!S127","v":0}]
[101,{"$f":"'Order form'!S128","v":0}]
[102,{"$f":"'Order form'!S129","v":0}]
[103,{"$f":"'Order form'!S130","v":0}]
[104,{"$f":"'Order form'!S131","v":0}]
[105,{"$f":"'Order form'!S132","v":0}]
[106,{"$f":"'Order form'!S133","v":0}]
[107,{"$f":"'Order form'!S134","v":0}]
[108,{"$f":"'Order form'!S135","v":0}]
[109,{"$f":"'Order form'!S136","v":0}]
[110,{"$f":"'Order form'!S137","v":0}]
[111,{"$f":"'Order form'!S138","v":0}]
[112,{"$f":"'Order form'!S139","v":0}]
[113,{"$f":"'Order form'!S140","v":0}]
[114,{"$f":"'Order form'!S141","v":0}]
[115,{"$f":"'Order form'!S142","v":0}]
[116,{"$f":"'Order form'!S143","v":0}]
[117,{"$f":"'Order form'!S144","v":0}]
[118,{"$f":"'Order form'!S145","v":0}]
[119,{"$f":"'Order form'!S146","v":0}]
[120,{"$f":"'Order form'!S147","v":0}]
[121,{"$f":"'Order form'!S148","v":0}]
[122,{"$f":"'Order form'!S149","v":0}]
[123,{"$f":"'Order form'!S150","v":0}]
[124,{"$f":"'Order form'!S151","v":0}]
[125,{"$f":"'Order form'!S152","v":0}]
[126,{"$f":"'Order form'!S153","v":0}]
[127,{"$f":"'Order form'!S154","v":0}]
[128,{"$f":"'Order form'!S155","v":0}]
[129,{"$f":"'Order form'!S156","v":0}]
[130,{"$f":"'Order form'!S157","v":0}]
[131,{"$f":"'Order form'!S158","v":0}]
[132,{"$f":"'Order form'!S159","v":0}]
[133,{"$f":"'Order form'!S160","v":0}]
[134,{"$f":"'Order form'!S161","v":0}]
[135,{"$f":"'Order form'!S162","v":0}]
[136,{"$f":"'Order form'!S163","v":0}]
[137,{"$f":"'Order form'!S164","v":0}]
[138,{"$f":"'Order form'!S165","v":0}]
[139,{"$f":"'Order form'!S166","v":0}]
[140,{"$f":"'Order form'!S167","v":0}]
[141,{"$f":"'Order form'!S168","v":0}]
[142,{"$f":"'Order form'!S169","v":0}]
[143,{"$f":"'Order form'!S170","v":0}]
[144,{"$f":"'Order form'!S171","v":0}]
[145,{"$f":"'Order form'!S172","v":0}]
[146,{"$f":"'Order form'!S173","v":0}]
[147,{"$f":"'Order form'!S174","v":0}]
[148,{"$f":"'Order form'!S175","v":0}]
[149,{"$f":"'Order form'!S176","v":0}]
[150,{"$f":"'Order form'!S177","v":0}]
[151,{"$f":"'Order form'!S178","v":0}]
[152,{"$f":"'Order form'!S179","v":0}]
[153,{"$f":"'Order form'!S180","v":0}]
[154,{"$f":"'Order form'!S181","v":0}]
[155,{"$f":"'Order form'!S182","v":0}]
[156,{"$f":"'Order form'!S183","v":0}]
[157,{"$f":"'Order form'!S184","v":0}]
[158,{"$f":"'Order form'!S185","v":0}]
[159,{"$f":"'Order form'!S186","v":0}]
[160,{"$f":"'Order form'!S187","v":0}]
[161,{"$f":"'Order form'!S188","v":0}]
[162,{"$f":"'Order form'!S189","v":0}]
[163,{"$f":"'Order form'!S190","v":0}]
[164,{"$f":"'Order form'!S191","v":0}]
[165,{"$f":"'Order form'!S192","v":0}]
[166,{"$f":"'Order form'!S193","v":0}]
[167,{"$f":"'Order form'!S194","v":0}]
[168,{"$f":"'Order form'!S195","v":0}]
[169,{"$f":"'Order form'!S196","v":0}]
[170,{"$f":"'Order form'!S197","v":0}]
[171,{"$f":"'Order form'!S198","v":0}]
[172,{"$f":"'Order form'!S199","v":0}]
[173,{"$f":"'Order form'!S200","v":0}]
[174,{"$f":"'Order form'!S201","v":0}]
[175,{"$f":"'Order form'!S202","v":0}]
[176,{"$f":"'Order form'!S203","v":0}]
[177,{"$f":"'Order form'!S204","v":0}]
[178,{"$f":"'Order form'!S205","v":0}]
[179,{"$f":"'Order form'!S206","v":0}]
[180,{"$f":"'Order form'!S207","v":0}]
[181,{"$f":"'Order form'!S208","v":0}]
[182,{"$f":"'Order form'!S209","v":0}]
[183,{"$f":"'Order form'!S210","v":0}]
[184,{"$f":"'Order form'!S211","v":0}]
[185,{"$f":"'Order form'!S212","v":0}]
[186,{"$f":"'Order form'!S213","v":0}]
[187,{"$f":"'Order form'!S214","v":0}]
[188,{"$f":"'Order form'!S215","v":0}]
[189,{"$f":"'Order form'!S216","v":0}]
[190,{"$f":"'Order form'!S217","v":0}]
[191,{"$f":"'Order form'!S218","v":0}]
[192,{"$f":"'Order form'!S219","v":0}]
[193,{"$f":"'Order form'!S220","v":0}]
[194,{"$f":"'Order form'!S221","v":0}]
[195,{"$f":"'Order form'!S222","v":0}]
[196,{"$f":"'Order form'!S223","v":0}]
[197,{"$f":"'Order form'!S224","v":0}]
[198,{"$f":"'Order form'!S225","v":0}]
[199,{"$f":"'Order form'!S226","v":0}]
[200,{"$f":"'Order form'!S227","v":0}]
[201]
[202]
[203]
[204]
[205]

{"sheet":"Sheet3","index":3,"n_rows":15,"n_cols":1,"rows_kept":15,"cut":false,"hidden":true,"merged":[]}
["Type of DNA "]
["Purified Plasmid"]
["Purified Fosmid/Cosmid"]
["Purified BAC"]
["Purified M13/ phagemid ssDNA"]
["Purified PCR Product"]
["Unpurified PCR product"]
["Purified Genomic DNA"]
["Complementary DNA (cDNA)"]
[]
["Add-On service"]
["sample purification-PCR Clean Up"]
["sample purification-Gel Extraction"]
["PCR Amplification with PCR Clean Up"]
["PCR Amplification with Gel Extraction"]